BEGIN:VCALENDAR
VERSION:2.0
PRODID:-//DPSG Stamm Ichtys - ECPv6.15.11//NONSGML v1.0//EN
CALSCALE:GREGORIAN
METHOD:PUBLISH
X-ORIGINAL-URL:https://dpsgneuhonrath.de
X-WR-CALDESC:Veranstaltungen für DPSG Stamm Ichtys
REFRESH-INTERVAL;VALUE=DURATION:PT1H
X-Robots-Tag:noindex
X-PUBLISHED-TTL:PT1H
BEGIN:VTIMEZONE
TZID:UTC
BEGIN:STANDARD
TZOFFSETFROM:+0000
TZOFFSETTO:+0000
TZNAME:UTC
DTSTART:20240101T000000
END:STANDARD
END:VTIMEZONE
BEGIN:VEVENT
DTSTART;TZID=UTC:20251115T090000
DTEND;TZID=UTC:20251115T150000
DTSTAMP:20260421T154118
CREATED:20250907T153022Z
LAST-MODIFIED:20250907T153023Z
UID:2275-1763197200-1763218800@dpsgneuhonrath.de
SUMMARY:Hauspflegetag
DESCRIPTION:
URL:https://dpsgneuhonrath.de/termine/hauspflegetag
END:VEVENT
BEGIN:VEVENT
DTSTART;TZID=UTC:20251116T000000
DTEND;TZID=UTC:20251116T235959
DTSTAMP:20260421T154118
CREATED:20250907T153219Z
LAST-MODIFIED:20250907T153220Z
UID:2279-1763251200-1763337599@dpsgneuhonrath.de
SUMMARY:Stammesversammlung
DESCRIPTION:
URL:https://dpsgneuhonrath.de/termine/stammesversammlung-2
END:VEVENT
BEGIN:VEVENT
DTSTART;TZID=UTC:20251128T080000
DTEND;TZID=UTC:20251130T170000
DTSTAMP:20260421T154118
CREATED:20250409T190409Z
LAST-MODIFIED:20250409T190410Z
UID:2177-1764316800-1764522000@dpsgneuhonrath.de
SUMMARY:Jahresabschlusslager
DESCRIPTION:
URL:https://dpsgneuhonrath.de/termine/jahresabschlusslager-2
END:VEVENT
BEGIN:VEVENT
DTSTART;TZID=UTC:20251128T160000
DTEND;TZID=UTC:20251130T170000
DTSTAMP:20260421T154118
CREATED:20250907T153110Z
LAST-MODIFIED:20250907T153111Z
UID:2277-1764345600-1764522000@dpsgneuhonrath.de
SUMMARY:Jahresabschlusslager
DESCRIPTION:
URL:https://dpsgneuhonrath.de/termine/jahresabschlusslager-3
END:VEVENT
END:VCALENDAR