BEGIN:VCALENDAR
VERSION:2.0
PRODID:-//DPSG Stamm Ichtys - ECPv6.15.11//NONSGML v1.0//EN
CALSCALE:GREGORIAN
METHOD:PUBLISH
X-ORIGINAL-URL:https://dpsgneuhonrath.de
X-WR-CALDESC:Veranstaltungen für DPSG Stamm Ichtys
REFRESH-INTERVAL;VALUE=DURATION:PT1H
X-Robots-Tag:noindex
X-PUBLISHED-TTL:PT1H
BEGIN:VTIMEZONE
TZID:UTC
BEGIN:STANDARD
TZOFFSETFROM:+0000
TZOFFSETTO:+0000
TZNAME:UTC
DTSTART:20240101T000000
END:STANDARD
END:VTIMEZONE
BEGIN:VEVENT
DTSTART;TZID=UTC:20251008T180000
DTEND;TZID=UTC:20251008T193000
DTSTAMP:20260423T092349
CREATED:20250907T152358Z
LAST-MODIFIED:20250907T152359Z
UID:2271-1759946400-1759951800@dpsgneuhonrath.de
SUMMARY:Elternabend
DESCRIPTION:Im Jugendheim
URL:https://dpsgneuhonrath.de/termine/elternabend
END:VEVENT
END:VCALENDAR