BEGIN:VCALENDAR
VERSION:2.0
PRODID:-//DPSG Stamm Ichtys - ECPv6.15.11//NONSGML v1.0//EN
CALSCALE:GREGORIAN
METHOD:PUBLISH
X-ORIGINAL-URL:https://dpsgneuhonrath.de
X-WR-CALDESC:Veranstaltungen für DPSG Stamm Ichtys
REFRESH-INTERVAL;VALUE=DURATION:PT1H
X-Robots-Tag:noindex
X-PUBLISHED-TTL:PT1H
BEGIN:VTIMEZONE
TZID:UTC
BEGIN:STANDARD
TZOFFSETFROM:+0000
TZOFFSETTO:+0000
TZNAME:UTC
DTSTART:20240101T000000
END:STANDARD
END:VTIMEZONE
BEGIN:VEVENT
DTSTART;TZID=UTC:20250606T160000
DTEND;TZID=UTC:20250609T140000
DTSTAMP:20260423T152124
CREATED:20240922T150127Z
LAST-MODIFIED:20250409T190237Z
UID:1905-1749225600-1749477600@dpsgneuhonrath.de
SUMMARY:Pfingstlager 2025
DESCRIPTION:
URL:https://dpsgneuhonrath.de/termine/pfingstlager-2025
END:VEVENT
END:VCALENDAR