BEGIN:VCALENDAR
VERSION:2.0
PRODID:-//DPSG Stamm Ichtys - ECPv6.15.11//NONSGML v1.0//EN
CALSCALE:GREGORIAN
METHOD:PUBLISH
X-WR-CALNAME:DPSG Stamm Ichtys
X-ORIGINAL-URL:https://dpsgneuhonrath.de
X-WR-CALDESC:Veranstaltungen für DPSG Stamm Ichtys
REFRESH-INTERVAL;VALUE=DURATION:PT1H
X-Robots-Tag:noindex
X-PUBLISHED-TTL:PT1H
BEGIN:VTIMEZONE
TZID:UTC
BEGIN:STANDARD
TZOFFSETFROM:+0000
TZOFFSETTO:+0000
TZNAME:UTC
DTSTART:20240101T000000
END:STANDARD
END:VTIMEZONE
BEGIN:VEVENT
DTSTART;TZID=UTC:20250111T080000
DTEND;TZID=UTC:20250111T150000
DTSTAMP:20260423T230944
CREATED:20241014T083710Z
LAST-MODIFIED:20241014T083711Z
UID:2017-1736582400-1736607600@dpsgneuhonrath.de
SUMMARY:Tannenbaumaktion
DESCRIPTION:Wie jedes Jahr sammeln wir wieder gegen eine Spende alte Tannenbäume in Neuhonrath\, Agger und Honrath ein.Die Spenden von der Aktion helfen unserem Stamm dabei\, die Jugendarbeit weiterhin anbieten zu können!
URL:https://dpsgneuhonrath.de/termine/tannenbaumaktion-2
END:VEVENT
END:VCALENDAR